BEGIN:VCALENDAR
VERSION:2.0
PRODID:-//SportsCardiologyBC - ECPv5.3.1.1//NONSGML v1.0//EN
CALSCALE:GREGORIAN
METHOD:PUBLISH
X-WR-CALNAME:SportsCardiologyBC
X-ORIGINAL-URL:https://sportscardiologybc.org
X-WR-CALDESC:Events for SportsCardiologyBC
BEGIN:VTIMEZONE
TZID:UTC
BEGIN:STANDARD
TZOFFSETFROM:+0000
TZOFFSETTO:+0000
TZNAME:UTC
DTSTART:20160101T000000
END:STANDARD
END:VTIMEZONE
BEGIN:VEVENT
DTSTART;VALUE=DATE:20160402
DTEND;VALUE=DATE:20160405
DTSTAMP:20260420T220104
CREATED:20160321T214403Z
LAST-MODIFIED:20160321T223814Z
UID:1157-1459555200-1459814399@sportscardiologybc.org
SUMMARY:American College of Cardiology Annual Scientific Session and Expo (ACC 2016)
DESCRIPTION:Note: SCBC team member\, Dr. James McKinney\, will be presenting an abstract on SCBC’s development and implementation of a novel pre-participation screening questionnaire in the young competitive athlete. \n“ACC.15 was the highest rated meeting EVER and ACC.16 promises to be even better! Join the growing numbers of cardiovascular professionals that attend ACC.16 to benefit from accessible\, clinically focused content on the topics that matter to you most! \nRegistration is still available! Don’t miss your chance to learn from the experts\, understand and discuss the challenges we are facing today\, and feel the excitement and enjoy the networking that only a meeting like ACC.16 can offer!.”
URL:https://sportscardiologybc.org/event/acc2016/
LOCATION:McCormick Place\, 2301 S. Martin Luther King Drive\, Chicago\, IL\, United States
END:VEVENT
END:VCALENDAR