BEGIN:VCALENDAR
VERSION:2.0
PRODID:-//SportsCardiologyBC - ECPv5.3.1.1//NONSGML v1.0//EN
CALSCALE:GREGORIAN
METHOD:PUBLISH
X-WR-CALNAME:SportsCardiologyBC
X-ORIGINAL-URL:https://sportscardiologybc.org
X-WR-CALDESC:Events for SportsCardiologyBC
BEGIN:VTIMEZONE
TZID:UTC
BEGIN:STANDARD
TZOFFSETFROM:+0000
TZOFFSETTO:+0000
TZNAME:UTC
DTSTART:20160101T000000
END:STANDARD
END:VTIMEZONE
BEGIN:VEVENT
DTSTART;VALUE=DATE:20160531
DTEND;VALUE=DATE:20160605
DTSTAMP:20260420T231636
CREATED:20160321T220244Z
LAST-MODIFIED:20160321T220244Z
UID:2068-1464652800-1465084799@sportscardiologybc.org
SUMMARY:American College of Sports Medicine Annual Meeting (ACSM 2016)
DESCRIPTION:Note: SCBC team member\, Barbara Morrison\, will be presenting an abstract on a preliminary analysis of the ongoing SCBC study on the Masters (>35) athlete and development/detection of cardiovascular disease. \n“At ACSM’s Annual Meeting\, World Congress on Exercise is Medicine® and World Congress on the Basic Science of Energy Balance you’ll find sessions covering virtually every aspect of sports medicine\, exercise science and the benefits of physical activity. Internationally recognized as the place to hear leading experts and learn about the latest research\, this conference brings science and practice together. More than 6\,000 industry professionals from around the globe make the ACSM Annual Meeting their priority conference. You’ll learn\, network\, engage and catch up with those as passionate about exercise science and sports medicine as you are!” \n 
URL:https://sportscardiologybc.org/event/acsm2016-2/
LOCATION:Hynes Convention Centre\, 900 Boylston Street\, Boston\, MA\, United States
END:VEVENT
END:VCALENDAR