BEGIN:VCALENDAR
VERSION:2.0
PRODID:-//SportsCardiologyBC - ECPv5.3.1.1//NONSGML v1.0//EN
CALSCALE:GREGORIAN
METHOD:PUBLISH
X-WR-CALNAME:SportsCardiologyBC
X-ORIGINAL-URL:https://sportscardiologybc.org
X-WR-CALDESC:Events for SportsCardiologyBC
BEGIN:VTIMEZONE
TZID:UTC
BEGIN:STANDARD
TZOFFSETFROM:+0000
TZOFFSETTO:+0000
TZNAME:UTC
DTSTART:20160101T000000
END:STANDARD
END:VTIMEZONE
BEGIN:VEVENT
DTSTART;VALUE=DATE:20160518
DTEND;VALUE=DATE:20160522
DTSTAMP:20260420T202507
CREATED:20160321T222712Z
LAST-MODIFIED:20160321T222712Z
UID:1173-1463529600-1463875199@sportscardiologybc.org
SUMMARY:Canadian Academy of Sport and Exercise Medicine Annual Symposium (CASEM 2016)
DESCRIPTION:
URL:https://sportscardiologybc.org/event/casem2016/
LOCATION:Fairmont Empress Hotel\, 721 Government Street \, Victoria\, British Columbia\, Canada
END:VEVENT
END:VCALENDAR