BEGIN:VCALENDAR
VERSION:2.0
PRODID:-//SportsCardiologyBC - ECPv5.3.1.1//NONSGML v1.0//EN
CALSCALE:GREGORIAN
METHOD:PUBLISH
X-WR-CALNAME:SportsCardiologyBC
X-ORIGINAL-URL:https://sportscardiologybc.org
X-WR-CALDESC:Events for SportsCardiologyBC
BEGIN:VTIMEZONE
TZID:UTC
BEGIN:STANDARD
TZOFFSETFROM:+0000
TZOFFSETTO:+0000
TZNAME:UTC
DTSTART:20160101T000000
END:STANDARD
END:VTIMEZONE
BEGIN:VEVENT
DTSTART;VALUE=DATE:20161109
DTEND;VALUE=DATE:20161113
DTSTAMP:20260420T215609
CREATED:20160321T225725Z
LAST-MODIFIED:20160321T225725Z
UID:2075-1478649600-1478995199@sportscardiologybc.org
SUMMARY:Family Medicine Forum 2016
DESCRIPTION:Canada’s premier Family Medicine Conference! \nNote: SCBC team member\, Dr. James McKinney\, will be presenting a workshop on Sports Cardiology with the goal of describing current and ongoing research in this rapidly evolving specialized area of medicine to members of the family medicine community.
URL:https://sportscardiologybc.org/event/family-medicine-forum-2016-2/
LOCATION:Vancouver Convention Centre\, 1055 Canada Place\, Vancouver\, British Columbia\, Canada
END:VEVENT
END:VCALENDAR