BEGIN:VCALENDAR
VERSION:2.0
PRODID:-//SportsCardiologyBC - ECPv5.3.1.1//NONSGML v1.0//EN
CALSCALE:GREGORIAN
METHOD:PUBLISH
X-WR-CALNAME:SportsCardiologyBC
X-ORIGINAL-URL:https://sportscardiologybc.org
X-WR-CALDESC:Events for SportsCardiologyBC
BEGIN:VTIMEZONE
TZID:UTC
BEGIN:STANDARD
TZOFFSETFROM:+0000
TZOFFSETTO:+0000
TZNAME:UTC
DTSTART:20160101T000000
END:STANDARD
END:VTIMEZONE
BEGIN:VEVENT
DTSTART;TZID=UTC:20160410T080000
DTEND;TZID=UTC:20160410T170000
DTSTAMP:20260420T220541
CREATED:20160323T191231Z
LAST-MODIFIED:20160323T191231Z
UID:2143-1460275200-1460307600@sportscardiologybc.org
SUMMARY:Masters Athlete Stress Testing
DESCRIPTION:SportsCardiologyBC will be conducting stress testing for its study on detecting underlying cardiovascular disease and risk assessment in the Masters (>35) athlete at Preventum Health Centre.
URL:https://sportscardiologybc.org/event/masters-athlete-stress-testing-5-2/
LOCATION:Preventum Health Centre\, 3210 Dunbar Street\, Vancouver\, British Columbia\, Canada
ORGANIZER;CN="SportsCardiologyBC":MAILTO:admin@sportscardiologybc.org
END:VEVENT
END:VCALENDAR