BEGIN:VCALENDAR
VERSION:2.0
PRODID:-//SportsCardiologyBC - ECPv5.3.1.1//NONSGML v1.0//EN
CALSCALE:GREGORIAN
METHOD:PUBLISH
X-WR-CALNAME:SportsCardiologyBC
X-ORIGINAL-URL:https://sportscardiologybc.org
X-WR-CALDESC:Events for SportsCardiologyBC
BEGIN:VTIMEZONE
TZID:UTC
BEGIN:STANDARD
TZOFFSETFROM:+0000
TZOFFSETTO:+0000
TZNAME:UTC
DTSTART:20150101T000000
END:STANDARD
END:VTIMEZONE
BEGIN:VEVENT
DTSTART;TZID=UTC:20151205T080000
DTEND;TZID=UTC:20151205T170000
DTSTAMP:20260420T220333
CREATED:20160401T191958Z
LAST-MODIFIED:20160401T191958Z
UID:2160-1449302400-1449334800@sportscardiologybc.org
SUMMARY:Masters Athlete Testing
DESCRIPTION:SportsCardiologyBC will be conducting testing for its study on detecting underlying cardiovascular disease and risk assessment in the Masters (>35) athlete at Fortius Sport and Health.
URL:https://sportscardiologybc.org/event/masters-athlete-testing-8/
LOCATION:Fortius Sport and Health\, 3713 Kensington Avenue\, Burnaby\, British Columbia\, V5B 3B8\, Canada
ORGANIZER;CN="SportsCardiologyBC":MAILTO:admin@sportscardiologybc.org
END:VEVENT
END:VCALENDAR