BEGIN:VCALENDAR
VERSION:2.0
PRODID:-//SportsCardiologyBC - ECPv5.3.1.1//NONSGML v1.0//EN
CALSCALE:GREGORIAN
METHOD:PUBLISH
X-WR-CALNAME:SportsCardiologyBC
X-ORIGINAL-URL:https://sportscardiologybc.org
X-WR-CALDESC:Events for SportsCardiologyBC
BEGIN:VTIMEZONE
TZID:UTC
BEGIN:STANDARD
TZOFFSETFROM:+0000
TZOFFSETTO:+0000
TZNAME:UTC
DTSTART:20150101T000000
END:STANDARD
END:VTIMEZONE
BEGIN:VEVENT
DTSTART;TZID=UTC:20150827T080000
DTEND;TZID=UTC:20150827T170000
DTSTAMP:20260421T004156
CREATED:20160331T235047Z
LAST-MODIFIED:20160331T235047Z
UID:1353-1440662400-1440694800@sportscardiologybc.org
SUMMARY:Masters Athlete Testing
DESCRIPTION:SportsCardiologyBC will be conducting testing for its study on detecting underlying cardiovascular disease and risk assessment in the Masters (>35) athlete at Stein Medical Clinic.
URL:https://sportscardiologybc.org/event/masters-athlete-testing/
LOCATION:Stein Medical Clinic\, 550 Burrard Street\, Vancouver\, British Columbia\, Canada
ORGANIZER;CN="SportsCardiologyBC":MAILTO:admin@sportscardiologybc.org
END:VEVENT
END:VCALENDAR