BEGIN:VCALENDAR
VERSION:2.0
PRODID:-//SportsCardiologyBC - ECPv5.3.1.1//NONSGML v1.0//EN
CALSCALE:GREGORIAN
METHOD:PUBLISH
X-WR-CALNAME:SportsCardiologyBC
X-ORIGINAL-URL:https://sportscardiologybc.org
X-WR-CALDESC:Events for SportsCardiologyBC
BEGIN:VTIMEZONE
TZID:UTC
BEGIN:STANDARD
TZOFFSETFROM:+0000
TZOFFSETTO:+0000
TZNAME:UTC
DTSTART:20150101T000000
END:STANDARD
END:VTIMEZONE
BEGIN:VEVENT
DTSTART;TZID=UTC:20150513T170000
DTEND;TZID=UTC:20150513T210000
DTSTAMP:20260421T021033
CREATED:20160322T222922Z
LAST-MODIFIED:20160322T222922Z
UID:1272-1431536400-1431550800@sportscardiologybc.org
SUMMARY:SCBC Masters Athlete Heart Testing
DESCRIPTION:SportsCardiologyBC will be conducting testing for its study on detecting underlying cardiovascular disease and risk assessment in the Masters (>35) athlete at UBC Hospital.
URL:https://sportscardiologybc.org/event/scbc-masters-athlete-heart-testing/
LOCATION:UBC Hospital\, 2211 Wesbrook Mall\, Vancouver\, British Columbia\, V6T 2B5\, Canada
ORGANIZER;CN="SportsCardiologyBC":MAILTO:admin@sportscardiologybc.org
END:VEVENT
END:VCALENDAR