BEGIN:VCALENDAR
VERSION:2.0
PRODID:-//SportsCardiologyBC - ECPv5.3.1.1//NONSGML v1.0//EN
CALSCALE:GREGORIAN
METHOD:PUBLISH
X-WR-CALNAME:SportsCardiologyBC
X-ORIGINAL-URL:https://sportscardiologybc.org
X-WR-CALDESC:Events for SportsCardiologyBC
BEGIN:VTIMEZONE
TZID:UTC
BEGIN:STANDARD
TZOFFSETFROM:+0000
TZOFFSETTO:+0000
TZNAME:UTC
DTSTART:20130101T000000
END:STANDARD
END:VTIMEZONE
BEGIN:VEVENT
DTSTART;TZID=UTC:20131202T170000
DTEND;TZID=UTC:20131202T210000
DTSTAMP:20260421T050443
CREATED:20160322T184954Z
LAST-MODIFIED:20160322T184954Z
UID:1218-1386003600-1386018000@sportscardiologybc.org
SUMMARY:SCBC Young Athlete Heart Testing
DESCRIPTION:SportsCardiologyBC will be conducting testing for its study on detecting underlying cardiovascular disease in the young competitive athlete at Fortius Sport and Health.
URL:https://sportscardiologybc.org/event/scbc-young-athlete-heart-testing-2/
LOCATION:Fortius Sport and Health\, 3713 Kensington Avenue\, Burnaby\, British Columbia\, V5B 3B8\, Canada
ORGANIZER;CN="SportsCardiologyBC":MAILTO:admin@sportscardiologybc.org
END:VEVENT
END:VCALENDAR