BEGIN:VCALENDAR
VERSION:2.0
PRODID:-//SportsCardiologyBC - ECPv5.3.1.1//NONSGML v1.0//EN
CALSCALE:GREGORIAN
METHOD:PUBLISH
X-WR-CALNAME:SportsCardiologyBC
X-ORIGINAL-URL:https://sportscardiologybc.org
X-WR-CALDESC:Events for SportsCardiologyBC
BEGIN:VTIMEZONE
TZID:UTC
BEGIN:STANDARD
TZOFFSETFROM:+0000
TZOFFSETTO:+0000
TZNAME:UTC
DTSTART:20150101T000000
END:STANDARD
END:VTIMEZONE
BEGIN:VEVENT
DTSTART;TZID=UTC:20150211T040000
DTEND;TZID=UTC:20150211T190000
DTSTAMP:20260421T050603
CREATED:20160322T220316Z
LAST-MODIFIED:20160322T220316Z
UID:1254-1423627200-1423681200@sportscardiologybc.org
SUMMARY:SCBC Young Athlete Heart Testing
DESCRIPTION:SportsCardiologyBC will be conducting testing for its study on detecting underlying cardiovascular disease in the young competitive athlete at Vancouver College.
URL:https://sportscardiologybc.org/event/scbc-young-athlete-heart-testing-25/
LOCATION:Vancouver College\, 5400 Cartier Street\, Vancouver\, British Columbia\, Canada
ORGANIZER;CN="SportsCardiologyBC":MAILTO:admin@sportscardiologybc.org
END:VEVENT
END:VCALENDAR