BEGIN:VCALENDAR
VERSION:2.0
PRODID:-//SportsCardiologyBC - ECPv5.3.1.1//NONSGML v1.0//EN
CALSCALE:GREGORIAN
METHOD:PUBLISH
X-WR-CALNAME:SportsCardiologyBC
X-ORIGINAL-URL:https://sportscardiologybc.org
X-WR-CALDESC:Events for SportsCardiologyBC
BEGIN:VTIMEZONE
TZID:UTC
BEGIN:STANDARD
TZOFFSETFROM:+0000
TZOFFSETTO:+0000
TZNAME:UTC
DTSTART:20150101T000000
END:STANDARD
END:VTIMEZONE
BEGIN:VEVENT
DTSTART;VALUE=DATE:20150711
DTEND;VALUE=DATE:20150712
DTSTAMP:20260421T004539
CREATED:20160322T225150Z
LAST-MODIFIED:20160322T225150Z
UID:1285-1436572800-1436659199@sportscardiologybc.org
SUMMARY:SCBC Young Athlete Heart Testing
DESCRIPTION:SportsCardiologyBC will be conducting testing for its study on detecting underlying cardiovascular disease in the young competitive athlete at Shawnigan Lake School.
URL:https://sportscardiologybc.org/event/scbc-young-athlete-heart-testing-30/
LOCATION:Shawnigan Lake School\, 1975 Renfrew Road\, Shawnigan Lake\, British Columbia\, Canada
ORGANIZER;CN="SportsCardiologyBC":MAILTO:admin@sportscardiologybc.org
END:VEVENT
END:VCALENDAR