BEGIN:VCALENDAR
VERSION:2.0
PRODID:-//SportsCardiologyBC - ECPv5.3.1.1//NONSGML v1.0//EN
CALSCALE:GREGORIAN
METHOD:PUBLISH
X-WR-CALNAME:SportsCardiologyBC
X-ORIGINAL-URL:https://sportscardiologybc.org
X-WR-CALDESC:Events for SportsCardiologyBC
BEGIN:VTIMEZONE
TZID:UTC
BEGIN:STANDARD
TZOFFSETFROM:+0000
TZOFFSETTO:+0000
TZNAME:UTC
DTSTART:20150101T000000
END:STANDARD
END:VTIMEZONE
BEGIN:VEVENT
DTSTART;VALUE=DATE:20150718
DTEND;VALUE=DATE:20150719
DTSTAMP:20260421T040229
CREATED:20160322T225719Z
LAST-MODIFIED:20160322T225719Z
UID:2134-1437177600-1437263999@sportscardiologybc.org
SUMMARY:SCBC Young Athlete Heart Testing
DESCRIPTION:SportsCardiologyBC will be conducting testing for its study on detecting underlying cardiovascular disease in the Young Competitive Athlete at UBC Hospital.
URL:https://sportscardiologybc.org/event/scbc-young-athlete-heart-testing-31-2/
LOCATION:UBC Hospital\, 2211 Wesbrook Mall\, Vancouver\, British Columbia\, V6T 2B5\, Canada
ORGANIZER;CN="SportsCardiologyBC":MAILTO:admin@sportscardiologybc.org
END:VEVENT
END:VCALENDAR