BEGIN:VCALENDAR
VERSION:2.0
PRODID:-//SportsCardiologyBC - ECPv5.3.1.1//NONSGML v1.0//EN
CALSCALE:GREGORIAN
METHOD:PUBLISH
X-WR-CALNAME:SportsCardiologyBC
X-ORIGINAL-URL:https://sportscardiologybc.org
X-WR-CALDESC:Events for SportsCardiologyBC
BEGIN:VTIMEZONE
TZID:UTC
BEGIN:STANDARD
TZOFFSETFROM:+0000
TZOFFSETTO:+0000
TZNAME:UTC
DTSTART:20150101T000000
END:STANDARD
END:VTIMEZONE
BEGIN:VEVENT
DTSTART;TZID=UTC:20150413T080000
DTEND;TZID=UTC:20150413T180000
DTSTAMP:20260425T102510
CREATED:20160322T222020Z
LAST-MODIFIED:20160322T222020Z
UID:2123-1428912000-1428948000@sportscardiologybc.org
SUMMARY:SCBC Young Athlete Heart Testing UFV
DESCRIPTION:SportsCardiologyBC will be conducting testing for its study on detecting underlying cardiovascular disease in the young competitive athlete at the University of the Fraser Valley.
URL:https://sportscardiologybc.org/event/scbc-young-athlete-heart-testing-ufv-2/
LOCATION:University of the Fraser Valley\, 33844 King Road\, Abbotsford\, British Columbia\, Canada
ORGANIZER;CN="SportsCardiologyBC":MAILTO:admin@sportscardiologybc.org
END:VEVENT
END:VCALENDAR