BEGIN:VCALENDAR
VERSION:2.0
PRODID:-//SportsCardiologyBC - ECPv5.3.1.1//NONSGML v1.0//EN
CALSCALE:GREGORIAN
METHOD:PUBLISH
X-WR-CALNAME:SportsCardiologyBC
X-ORIGINAL-URL:https://sportscardiologybc.org
X-WR-CALDESC:Events for SportsCardiologyBC
BEGIN:VTIMEZONE
TZID:UTC
BEGIN:STANDARD
TZOFFSETFROM:+0000
TZOFFSETTO:+0000
TZNAME:UTC
DTSTART:20150101T000000
END:STANDARD
END:VTIMEZONE
BEGIN:VEVENT
DTSTART;TZID=UTC:20150311T183000
DTEND;TZID=UTC:20150311T193000
DTSTAMP:20260420T214136
CREATED:20160322T174829Z
LAST-MODIFIED:20160322T174829Z
UID:1200-1426098600-1426102200@sportscardiologybc.org
SUMMARY:SportsCardiologyBC Education Seminar SMUS
DESCRIPTION:Following the heart health testing at SMUS on Wednesday\, March 11th\, SportsCardiologyBC Vancouver Island Lead\, Dr. Anthony Della Siega\, will be leading an educational seminar for athletes\, coaches\, teachers and parents. The evening will focus on the following topics: \n\n Prevention\, identification and treatment of cardiovascular disease in the athlete\nWarning signs\, symptoms and risk factors\nSportsCardiologyBC’s mandate: Research\, Education\, Clinical Assessment and Advocacy
URL:https://sportscardiologybc.org/event/smusseminar/
LOCATION:Saint Michael’s University School\, 3400 Richmond Road\, Victoria\, British Columbia\, Canada
ORGANIZER;CN="SportsCardiologyBC":MAILTO:admin@sportscardiologybc.org
END:VEVENT
END:VCALENDAR