BEGIN:VCALENDAR
VERSION:2.0
PRODID:-//SportsCardiologyBC - ECPv5.3.1.1//NONSGML v1.0//EN
CALSCALE:GREGORIAN
METHOD:PUBLISH
X-WR-CALNAME:SportsCardiologyBC
X-ORIGINAL-URL:https://sportscardiologybc.org
X-WR-CALDESC:Events for SportsCardiologyBC
BEGIN:VTIMEZONE
TZID:UTC
BEGIN:STANDARD
TZOFFSETFROM:+0000
TZOFFSETTO:+0000
TZNAME:UTC
DTSTART:20160101T000000
END:STANDARD
END:VTIMEZONE
BEGIN:VEVENT
DTSTART;TZID=UTC:20161005T080000
DTEND;TZID=UTC:20161005T090000
DTSTAMP:20260420T232741
CREATED:20160926T200217Z
LAST-MODIFIED:20160926T200217Z
UID:1555-1475654400-1475658000@sportscardiologybc.org
SUMMARY:SportsCardiologyBC Presentation - VGH Anaesthesiology Rounds
DESCRIPTION:Dr. Isserow will be providing a lecture at VGH for interested students and anaesthesiology residents on the growing sub-specialty of sports cardiology and ongoing research being conducted by SportsCardiologyBC.
URL:https://sportscardiologybc.org/event/sportscardiologybc-presentation-vgh-anaesthesiology-rounds/
LOCATION:VGH – Paetzold Lecture Theatre\, 889 West 12th Avenue\, Vancouver\, British Columbia\, Canada
END:VEVENT
END:VCALENDAR