BEGIN:VCALENDAR
VERSION:2.0
PRODID:-//SportsCardiologyBC - ECPv5.3.1.1//NONSGML v1.0//EN
CALSCALE:GREGORIAN
METHOD:PUBLISH
X-WR-CALNAME:SportsCardiologyBC
X-ORIGINAL-URL:https://sportscardiologybc.org
X-WR-CALDESC:Events for SportsCardiologyBC
BEGIN:VTIMEZONE
TZID:UTC
BEGIN:STANDARD
TZOFFSETFROM:+0000
TZOFFSETTO:+0000
TZNAME:UTC
DTSTART:20150101T000000
END:STANDARD
END:VTIMEZONE
BEGIN:VEVENT
DTSTART;TZID=UTC:20150601T183000
DTEND;TZID=UTC:20150601T203000
DTSTAMP:20260420T215819
CREATED:20160322T180019Z
LAST-MODIFIED:20160322T180019Z
UID:2080-1433183400-1433190600@sportscardiologybc.org
SUMMARY:SportsCardiologyBC Seminar - "Health and Athletics"
DESCRIPTION:Come join SportsCardiologyBC for our upcoming free education event in which we will have our experts from the medical and research fields discuss important concepts in Sports Medicine\, foundational research in the area of Sports Cardiology and exciting new directions the program will be taking.  \nTopics will include common sports injuries\, the risk-benefit paradox in ultra-endurance athletes\, preliminary findings from SCBC’s young competitive athlete screening study and a discussion of future projects for the program.  \nOur expert speakers and panel will consist of: \nDr. Saul Isserow\, Dr. Jack Taunton\, Dr. Brett Heilbron\, Dr. Darren Warburton\, and Dr. Hamed Nazzari \nDoors open at 5:30pm\, food and light refreshments will be provided. The speaker presentations and panel discussion will occur from 6:30pm-8:00pm. \nParking is available for free in front of Fortius. Please enter at the main entrance and head upstairs where registration will occur and food will be available.  \nFor more information on the event go on our website at www.sportscardiologybc.org or our Facebook Page \nLook forward to seeing you there! (no need to print tickets)
URL:https://sportscardiologybc.org/event/sportscardiologybc-seminar-health-and-athletics-2/
LOCATION:Fortius Sport and Health\, 3713 Kensington Avenue\, Burnaby\, British Columbia\, V5B 3B8\, Canada
ORGANIZER;CN="SportsCardiologyBC":MAILTO:admin@sportscardiologybc.org
END:VEVENT
END:VCALENDAR