BEGIN:VCALENDAR
VERSION:2.0
PRODID:-//SportsCardiologyBC - ECPv5.3.1.1//NONSGML v1.0//EN
CALSCALE:GREGORIAN
METHOD:PUBLISH
X-WR-CALNAME:SportsCardiologyBC
X-ORIGINAL-URL:https://sportscardiologybc.org
X-WR-CALDESC:Events for SportsCardiologyBC
BEGIN:VTIMEZONE
TZID:UTC
BEGIN:STANDARD
TZOFFSETFROM:+0000
TZOFFSETTO:+0000
TZNAME:UTC
DTSTART:20170101T000000
END:STANDARD
END:VTIMEZONE
BEGIN:VEVENT
DTSTART;TZID=UTC:20170922T090000
DTEND;TZID=UTC:20170922T130000
DTSTAMP:20260420T220734
CREATED:20170905T224624Z
LAST-MODIFIED:20170905T224624Z
UID:1692-1506070800-1506085200@sportscardiologybc.org
SUMMARY:UBC Varsity Athlete Screening
DESCRIPTION:
URL:https://sportscardiologybc.org/event/ubc-varsity-athlete-screening-7/
LOCATION:UBC Hospital\, 2211 Wesbrook Mall\, Vancouver\, British Columbia\, V6T 2B5\, Canada
ORGANIZER;CN="SportsCardiologyBC":MAILTO:admin@sportscardiologybc.org
END:VEVENT
END:VCALENDAR