BEGIN:VCALENDAR
VERSION:2.0
PRODID:-//SportsCardiologyBC - ECPv5.3.1.1//NONSGML v1.0//EN
CALSCALE:GREGORIAN
METHOD:PUBLISH
X-WR-CALNAME:SportsCardiologyBC
X-ORIGINAL-URL:https://sportscardiologybc.org
X-WR-CALDESC:Events for SportsCardiologyBC
BEGIN:VTIMEZONE
TZID:UTC
BEGIN:STANDARD
TZOFFSETFROM:+0000
TZOFFSETTO:+0000
TZNAME:UTC
DTSTART:20140101T000000
END:STANDARD
END:VTIMEZONE
BEGIN:VEVENT
DTSTART;TZID=UTC:20140731T120000
DTEND;TZID=UTC:20140731T130000
DTSTAMP:20260420T231109
CREATED:20160322T181950Z
LAST-MODIFIED:20160322T181950Z
UID:1206-1406808000-1406811600@sportscardiologybc.org
SUMMARY:VGH Grands Rounds Presentation - Andrea Lee
DESCRIPTION:Andrea Lee gives an informative presentation on the impact of excessive endurance exercise on the heart.
URL:https://sportscardiologybc.org/event/vgh-grands-rounds-presentation-andrea-lee/
LOCATION:VGH – Paetzold Lecture Theatre\, 889 West 12th Avenue\, Vancouver\, British Columbia\, Canada
END:VEVENT
END:VCALENDAR